Workbook

Sheet 1. Wichtige Hinweise
A2: Hinweise zum Kosten- und Finanzierungsplan
A4: Was muss ich zur ANTRAGSTELLUNG beachten?
A5: Bitte füllen Sie ZUR ANTRAGSTELLUNG NUR das zweite grün markierte Tabellenblatt "2.Kosten- und Finanzierungsplan" aus.
A6: Drucken Sie den Finanzierungsplan aus und reichen diesen zusammen mit dem Antrag unterschrieben ein. Speichern Sie sich Ihre Datei an einem sicheren Ort um diesen zur Durchführung des Projektes diese weiterzuverwenden.
A8: Welche Kosten sind zuwendungsfähig im Rahmen allgemeiner Fördergrundsätze?
A9: 1. Zuwendungsfähig sind: Honorarkosten, Verwaltungsausgaben,
A10: Sachmittel/Zweckausgaben, sonstige Ausgaben
A11: 2. Nicht zuwendungsfähig sind: z.B. Repräsentationskosten ( z.B. Catering, Blumen, alkoholische Getränke,
A12: Geschenke, Premierenfeiern, Bewirtungskosten bzw. Arbeitsessen etc.), Grundgebühren für Telefon, etc.
A13: Detaillierte Informationen zum Umgang mit Zuwendungsmitteln werden im Dokument "Allgemeine Grundsätze zum Umgang mit Fördermitteln" und "Förderrichtlinien" gegeben.
A15: Wie muss die Kosten- und Finanzierungskalkulation aussehen (Ausgabeseite)?
A16: Der Kosten- und Finanzierungsplan berücksichtigt auf der Ausgabenseite alle Ausgaben wie z.B.
... A39: Gern können Sie bei Bedarf weitere Zeilen hinzufügen.

Sheet 2.Kosten- und Finanzierungsplan
A1: Kosten- und Finanzierungsplan
A2: Berliner Projektfonds Kulturelle Bildung (BPKB) - Fördersäule 3
D3: Sind Sie vorsteuerabzugsberechtigt?
A4: Antragsteller: | D4: Ja
A5: zum Antrag vom: | D5: Nein
A6: Projekttitel: | D6: Falls ja, geben Sie Nettobeträge an
D7: Falls nein, geben Sie Bruttobeträge an
A8: AUSGABENSEITE
A9: A Personal und Honorar
A10: Nr. | B10: Beschreibung der Tätigkeit | C10: Stunden-/Pauschalen- anzahl | D10: Stundensatz/ Pauschale | E10: Gesamtkosten
A11: A1 | E11: =C11*D11 -> 0
A12: A2 | E12: =C12*D12 -> 0
A13: A3 | E13: =C13*D13 -> 0
A14: A4 | E14: =C14*D14 -> 0
A15: A5 | E15: =C15*D15 -> 0
A16: A6 | E16: =C16*D16 -> 0
A17: A7 | E17: =C17*D17 -> 0
A18: A8 | E18: =C18*D18 -> 0
A19: A9 | E19: =C19*D19 -> 0
A20: A10 | E20: =C20*D20 -> 0
A21: A11 | E21: =C21*D21 -> 0
A22: Ergebnis | D22: Summe A | E22: =SUBTOTAL(109,Honorar[[Gesamtkosten ]]) -> 0
A23: B Sachkosten
A24: Nr. | B24: Beschreibung | C24: Anzahl | D24: Einzelpreis | E24: Gesamtkosten
A25: B1 | E25: =C25*D25 -> 0
A26: B2 | E26: =C26*D26 -> 0
A27: B3 | E27: =C27*D27 -> 0
A28: B4 | E28: =C28*D28 -> 0
A29: B5 | E29: =C29*D29 -> 0
A30: B6 | E30: =C30*D30 -> 0
A31: B7 | E31: =C31*D31 -> 0
A32: B8 | E32: =C32*D32 -> 0
A33: B9 | E33: =C33*D33 -> 0
A34: B10 | E34: =C34*D34 -> 0
A35: Ergebnis | D35: Summe B | E35: =SUBTOTAL(109,Sachkosten[[Gesamtkosten ]]) -> 0
A36: Die Gesamtkosten des Projekts werden aus folgenden Mitteln finanziert:
A37: EINNAHMENSEITE
A38: C Einahmen / Eigenmittel
A39: Nr. | B39: Beschreibung | E39: Gesamtkosten
A40: C1
...

Sheet 3. Belegliste
A1: Belegliste
A2: ='2.Kosten- und Finanzierungsplan'!A2 -> Berliner Projektfonds Kulturelle Bildung (BPKB) - Fördersäule 3
B3: ACHTUNG DIESES TABELLENBLATT IST ERST ZUM PROJEKTABSCHLUSS AUSZUFÜLLEN, NICHT ZUR ANTRAGSTELLUNG!
A4: Antragsteller: | C4: ='2.Kosten- und Finanzierungsplan'!B4 -> 0
A5: zum Antrag vom: | C5: ='2.Kosten- und Finanzierungsplan'!B5 -> 0
A6: Projekttitel: | C6: ='2.Kosten- und Finanzierungsplan'!B6 -> 0
A9: Beleg-Nr. | B9: Kostenart | C9: Posten | D9: Rechnungs- Datum | E9: Zahlungs- Datum | F9: Leistungsbeschreibung | G9: Ausgabe | H9: Einnahme
A10: 1
A11: 2
A12: 3
A13: 4
A14: 5
A15: 6
A16: 7
A17: 8
A18: 9
A19: 10
A20: 11
A21: 12
... A107: 98

Sheet 4. Soll Ist Abgleich
A1: Soll Ist Abgleich
A2: ='2.Kosten- und Finanzierungsplan'!A2 -> Berliner Projektfonds Kulturelle Bildung (BPKB) - Fördersäule 3
A3: ACHTUNG DIESES TABELLENBLATT IST ERST ZUM PROJEKTABSCHLUSS AUSZUFÜLLEN, NICHT ZUR ANTRAGSTELLUNG!
A4: Antragsteller: | B4: ='2.Kosten- und Finanzierungsplan'!B4 -> 0
A5: zum Antrag vom: | B5: ='2.Kosten- und Finanzierungsplan'!B5 -> 0
A6: Projekttitel: | B6: ='2.Kosten- und Finanzierungsplan'!B6 -> 0
A9: A Honorar | E9: SOLL | F9: IST
A10: Nr. | B10: Beschreibung | C10: Stunden-/Pauschalen- anzahl | D10: Stundensatz/ Pauschale | E10: Gesamtkosten | F10: Gesamtkosten
A11: =Honorar[[#This Row],[Nr.]] -> A1 | B11: =Honorar[[#This Row],[Beschreibung der Tätigkeit]] -> 0 | C11: =Honorar[[#This Row],[Stunden-/Pauschalen- anzahl]] -> 0 | D11: =Honorar[[#This Row],[Stundensatz/ Pauschale]] -> 0 | E11: =Honorar[[#This Row],[Gesamtkosten ]] -> 0 | F11: =SUMIFS(Belegliste[Ausgabe],Belegliste[Posten],A11) -> 0
A12: =Honorar[[#This Row],[Nr.]] -> A2 | B12: =Honorar[[#This Row],[Beschreibung der Tätigkeit]] -> 0 | C12: =Honorar[[#This Row],[Stunden-/Pauschalen- anzahl]] -> 0 | D12: =Honorar[[#This Row],[Stundensatz/ Pauschale]] -> 0 | E12: =Honorar[[#This Row],[Gesamtkosten ]] -> 0 | F12: =SUMIFS(Belegliste[Ausgabe],Belegliste[Posten],A12) -> 0
A13: =Honorar[[#This Row],[Nr.]] -> A3 | B13: =Honorar[[#This Row],[Beschreibung der Tätigkeit]] -> 0 | C13: =Honorar[[#This Row],[Stunden-/Pauschalen- anzahl]] -> 0 | D13: =Honorar[[#This Row],[Stundensatz/ Pauschale]] -> 0 | E13: =Honorar[[#This Row],[Gesamtkosten ]] -> 0 | F13: =SUMIFS(Belegliste[Ausgabe],Belegliste[Posten],A13) -> 0
A14: =Honorar[[#This Row],[Nr.]] -> A4 | B14: =Honorar[[#This Row],[Beschreibung der Tätigkeit]] -> 0 | C14: =Honorar[[#This Row],[Stunden-/Pauschalen- anzahl]] -> 0 | D14: =Honorar[[#This Row],[Stundensatz/ Pauschale]] -> 0 | E14: =Honorar[[#This Row],[Gesamtkosten ]] -> 0 | F14: =SUMIFS(Belegliste[Ausgabe],Belegliste[Posten],A14) -> 0
A15: =Honorar[[#This Row],[Nr.]] -> A5 | B15: =Honorar[[#This Row],[Beschreibung der Tätigkeit]] -> 0 | C15: =Honorar[[#This Row],[Stunden-/Pauschalen- anzahl]] -> 0 | D15: =Honorar[[#This Row],[Stundensatz/ Pauschale]] -> 0 | E15: =Honorar[[#This Row],[Gesamtkosten ]] -> 0 | F15: =SUMIFS(Belegliste[Ausgabe],Belegliste[Posten],A15) -> 0
A16: =Honorar[[#This Row],[Nr.]] -> A6 | B16: =Honorar[[#This Row],[Beschreibung der Tätigkeit]] -> 0 | C16: =Honorar[[#This Row],[Stunden-/Pauschalen- anzahl]] -> 0 | D16: =Honorar[[#This Row],[Stundensatz/ Pauschale]] -> 0 | E16: =Honorar[[#This Row],[Gesamtkosten ]] -> 0 | F16: =SUMIFS(Belegliste[Ausgabe],Belegliste[Posten],A16) -> 0
A17: =Honorar[[#This Row],[Nr.]] -> A7 | B17: =Honorar[[#This Row],[Beschreibung der Tätigkeit]] -> 0 | C17: =Honorar[[#This Row],[Stunden-/Pauschalen- anzahl]] -> 0 | D17: =Honorar[[#This Row],[Stundensatz/ Pauschale]] -> 0 | E17: =Honorar[[#This Row],[Gesamtkosten ]] -> 0 | F17: =SUMIFS(Belegliste[Ausgabe],Belegliste[Posten],A17) -> 0
A18: =Honorar[[#This Row],[Nr.]] -> A8 | B18: =Honorar[[#This Row],[Beschreibung der Tätigkeit]] -> 0 | C18: =Honorar[[#This Row],[Stunden-/Pauschalen- anzahl]] -> 0 | D18: =Honorar[[#This Row],[Stundensatz/ Pauschale]] -> 0 | E18: =Honorar[[#This Row],[Gesamtkosten ]] -> 0 | F18: =SUMIFS(Belegliste[Ausgabe],Belegliste[Posten],A18) -> 0
A19: =Honorar[[#This Row],[Nr.]] -> A9 | B19: =Honorar[[#This Row],[Beschreibung der Tätigkeit]] -> 0 | C19: =Honorar[[#This Row],[Stunden-/Pauschalen- anzahl]] -> 0 | D19: =Honorar[[#This Row],[Stundensatz/ Pauschale]] -> 0 | E19: =Honorar[[#This Row],[Gesamtkosten ]] -> 0 | F19: =SUMIFS(Belegliste[Ausgabe],Belegliste[Posten],A19) -> 0
A20: =Honorar[[#This Row],[Nr.]] -> A10 | B20: =Honorar[[#This Row],[Beschreibung der Tätigkeit]] -> 0 | C20: =Honorar[[#This Row],[Stunden-/Pauschalen- anzahl]] -> 0 | D20: =Honorar[[#This Row],[Stundensatz/ Pauschale]] -> 0 | E20: =Honorar[[#This Row],[Gesamtkosten ]] -> 0 | F20: =SUMIFS(Belegliste[Ausgabe],Belegliste[Posten],A20) -> 0
A21: =Honorar[[#This Row],[Nr.]] -> A11 | B21: =Honorar[[#This Row],[Beschreibung der Tätigkeit]] -> 0 | C21: =Honorar[[#This Row],[Stunden-/Pauschalen- anzahl]] -> 0 | D21: =Honorar[[#This Row],[Stundensatz/ Pauschale]] -> 0 | E21: =Honorar[[#This Row],[Gesamtkosten ]] -> 0 | F21: =SUMIFS(Belegliste[Ausgabe],Belegliste[Posten],A21) -> 0
A22: Ergebnis | D22: Summe A | E22: =SUBTOTAL(109,Soll_Ist_Honorar[[Gesamtkosten ]]) -> 0 | F22: =SUBTOTAL(109,Soll_Ist_Honorar[[Gesamtkosten ]]) -> 0
A24: B Sachkosten | E24: SOLL | F24: IST
A25: Nr. | B25: Beschreibung | C25: Anzahl | D25: Einzelpreis | E25: Gesamtkosten | F25: Gesamtkosten
A26: =Sachkosten[[#This Row],[Nr.]] -> B2 | B26: =Sachkosten[[#This Row],[Beschreibung]] -> 0 | C26: =Sachkosten[[#This Row],[Anzahl]] -> 0 | D26: =Sachkosten[[#This Row],[Einzelpreis]] -> 0 | E26: =Sachkosten[[#This Row],[Gesamtkosten ]] -> 0 | F26: =SUMIFS(Belegliste[Ausgabe],Belegliste[Posten],A26) -> 0
A27: =Sachkosten[[#This Row],[Nr.]] -> B3 | B27: =Sachkosten[[#This Row],[Beschreibung]] -> 0 | C27: =Sachkosten[[#This Row],[Anzahl]] -> 0 | D27: =Sachkosten[[#This Row],[Einzelpreis]] -> 0 | E27: =Sachkosten[[#This Row],[Gesamtkosten ]] -> 0 | F27: =SUMIFS(Belegliste[Ausgabe],Belegliste[Posten],A27) -> 0
A28: =Sachkosten[[#This Row],[Nr.]] -> B4 | B28: =Sachkosten[[#This Row],[Beschreibung]] -> 0 | C28: =Sachkosten[[#This Row],[Anzahl]] -> 0 | D28: =Sachkosten[[#This Row],[Einzelpreis]] -> 0 | E28: =Sachkosten[[#This Row],[Gesamtkosten ]] -> 0 | F28: =SUMIFS(Belegliste[Ausgabe],Belegliste[Posten],A28) -> 0
A29: =Sachkosten[[#This Row],[Nr.]] -> B5 | B29: =Sachkosten[[#This Row],[Beschreibung]] -> 0 | C29: =Sachkosten[[#This Row],[Anzahl]] -> 0 | D29: =Sachkosten[[#This Row],[Einzelpreis]] -> 0 | E29: =Sachkosten[[#This Row],[Gesamtkosten ]] -> 0 | F29: =SUMIFS(Belegliste[Ausgabe],Belegliste[Posten],A29) -> 0
A30: =Sachkosten[[#This Row],[Nr.]] -> B6 | B30: =Sachkosten[[#This Row],[Beschreibung]] -> 0 | C30: =Sachkosten[[#This Row],[Anzahl]] -> 0 | D30: =Sachkosten[[#This Row],[Einzelpreis]] -> 0 | E30: =Sachkosten[[#This Row],[Gesamtkosten ]] -> 0 | F30: =SUMIFS(Belegliste[Ausgabe],Belegliste[Posten],A30) -> 0
A31: =Sachkosten[[#This Row],[Nr.]] -> B7 | B31: =Sachkosten[[#This Row],[Beschreibung]] -> 0 | C31: =Sachkosten[[#This Row],[Anzahl]] -> 0 | D31: =Sachkosten[[#This Row],[Einzelpreis]] -> 0 | E31: =Sachkosten[[#This Row],[Gesamtkosten ]] -> 0 | F31: =SUMIFS(Belegliste[Ausgabe],Belegliste[Posten],A31) -> 0
A32: =Sachkosten[[#This Row],[Nr.]] -> B8 | B32: =Sachkosten[[#This Row],[Beschreibung]] -> 0 | C32: =Sachkosten[[#This Row],[Anzahl]] -> 0 | D32: =Sachkosten[[#This Row],[Einzelpreis]] -> 0 | E32: =Sachkosten[[#This Row],[Gesamtkosten ]] -> 0 | F32: =SUMIFS(Belegliste[Ausgabe],Belegliste[Posten],A32) -> 0
A33: =Sachkosten[[#This Row],[Nr.]] -> B9 | B33: =Sachkosten[[#This Row],[Beschreibung]] -> 0 | C33: =Sachkosten[[#This Row],[Anzahl]] -> 0 | D33: =Sachkosten[[#This Row],[Einzelpreis]] -> 0 | E33: =Sachkosten[[#This Row],[Gesamtkosten ]] -> 0 | F33: =SUMIFS(Belegliste[Ausgabe],Belegliste[Posten],A33) -> 0
A34: =Sachkosten[[#This Row],[Nr.]] -> B10 | B34: =Sachkosten[[#This Row],[Beschreibung]] -> 0 | C34: =Sachkosten[[#This Row],[Anzahl]] -> 0 | D34: =Sachkosten[[#This Row],[Einzelpreis]] -> 0 | E34: =Sachkosten[[#This Row],[Gesamtkosten ]] -> 0 | F34: =SUMIFS(Belegliste[Ausgabe],Belegliste[Posten],A34) -> 0
A35: =Sachkosten[[#This Row],[Nr.]] -> #VALUE! | B35: =Sachkosten[[#This Row],[Beschreibung]] -> #VALUE! | C35: =Sachkosten[[#This Row],[Anzahl]] -> #VALUE! | D35: =Sachkosten[[#This Row],[Einzelpreis]] -> #VALUE! | E35: =Sachkosten[[#This Row],[Gesamtkosten ]] -> #VALUE! | F35: =SUMIFS(Belegliste[Ausgabe],Belegliste[Posten],A35) -> 0
A36: Ergebnis | D36: Summe B | E36: =SUBTOTAL(109,Soll_Ist_Sachkosten[[Gesamtkosten ]]) -> #VALUE! | F36: =SUBTOTAL(109,Soll_Ist_Sachkosten[[Gesamtkosten ]]) -> 0
A38: Die Gesamtkosten des Projekts werden aus folgenden Mitteln finanziert:
A39: C Einahmen / Eigenmittel | E39: SOLL | F39: IST
A40: Nr. | B40: Beschreibung | E40: Gesamtkosten | F40: Gesamtkosten
A41: C1 | B41: Barmittel | E41: 800 | F41: =SUMIFS(Belegliste[Einnahme],Belegliste[Posten],A41) -> 0
A42: C2 | B42: Eintrittsgelder | F42: =SUMIFS(Belegliste[Einnahme],Belegliste[Posten],A42) -> 0
A43: C3 | B43: Verkaufserlöse | F43: =SUMIFS(Belegliste[Einnahme],Belegliste[Posten],A43) -> 0
A44: C4 | B44: Sonstiges | F44: =SUMIFS(Belegliste[Einnahme],Belegliste[Posten],A44) -> 0
...

Sheet 5.Übersicht Verwendungsnachweis
B2: Verwendungsnachweis
B3: Berliner Projektfonds Kulturelle Bildung (BPKB) - Fördersäule 3
A4: ACHTUNG DIESES TABELLENBLATT IST ERST ZUM PROJEKTABSCHLUSS AUSZUFÜLLEN, NICHT ZUR ANTRAGSTELLUNG!
B5: Verwendungsnachweis | D5: Achtung dieser Verwendungsnachweis generiert sich automatisch aus den Angaben der vorderen Tabellenblätter. Bitte füllen Sie nur die Angaben in der ersten Tabelle (orange markiert) aus.
B6: Zwischennachweis
B7: Bitte auswählen
B9: Projekttitel | C9: ='2.Kosten- und Finanzierungsplan'!B6 -> 0
B10: Zuwendungsempfänger*in | C10: ='2.Kosten- und Finanzierungsplan'!B4 -> 0
B11: Bewilligungszeitraum (Datum von/bis) | E11: Vorzeitiger Maßnahmebeginn bewilligt?
B12: Zuwendungsbescheid vom | E12: nein | F12: ja, am
B13: Abschluss am
B15: I. Sachbericht
B16: siehe Anlagen
B18: II. Zahlenmäßiger Nachweis (Belegliste)
B19: III. Verwendungsnachweis
B21: Einnahmen | C21: Geplante bewilligte Einnahmen lt. Finanzierungsplan | D21: Tatsächliche Einnahmen | E21: Abweichungen
B22: Einnahmen/Eigenmittel Antragsteller** | C22: =Einnahmen_Eigenmittel[[#Totals],[Gesamtkosten ]] -> 0 | D22: =Soll_Ist_Einahmen_Eigenmittel[[#Totals],[Gesamtkosten ]] -> 0 | E22: =D22-C22 -> 0
B23: Drittmittel | C23: =Drittmittel[[#Totals],[Gesamtkosten ]] -> 0 | D23: =Soll_Ist_Drittmittel[[#Totals],[Gesamtkosten ]] -> 0 | E23: =D23-C23 -> 0
B24: bewilligte Fördermittel** | C24: ='2.Kosten- und Finanzierungsplan'!E64 -> 0 | D24: ='4. Soll Ist Abgleich'!E56 -> 0 | E24: =D24-C24 -> 0
B25: Gesamtsumme Einnahmen | C25: =SUM(C22:C24) -> 0 | D25: =SUM(D22:D24) -> 0 | E25: =D25-C25 -> 0
B27: Ausgaben | C27: Geplante bewilligte Ausgaben lt. Finanzierungsplan | D27: Tatsächliche Ausgaben | E27: Abweichungen | F27: in %
B28: Personal- und Honorarkosten | C28: =Honorar[[#Totals],[Gesamtkosten ]] -> 0 | D28: =Soll_Ist_Honorar[[#Totals],[Gesamtkosten ]] -> 0 | E28: =D28-C28 -> 0 | F28: =E28/C28 -> #DIV/0!
B29: Sachkosten | C29: =Sachkosten[[#Totals],[Gesamtkosten ]] -> 0 | D29: =Soll_Ist_Sachkosten[[#Totals],[Gesamtkosten ]] -> 0 | E29: =D29-C29 -> 0 | F29: =E29/C29 -> #DIV/0!
B30: Gesamtsumme Ausgaben | C30: =SUM(C28:C29) -> 0 | D30: =SUM(D28:D29) -> 0 | E30: =D30-C30 -> 0 | F30: =E30/C30 -> #DIV/0!
C32: Differenz | D32: =D25-D30 -> 0
B34: IV. Bestätigungen
B36: Es wird bestätigt, dass
C37: - die Eintragungen un der Abschluss richtig und vollständig sind,
C38: - die Ausgaben notwendig waren,
C39: - wirtschaftlich und sparsam verfahren worden ist und
C40: - die Angaben mit den Büchern und Belegen übereinstimmen
B42: Datum | D42: Rechtsverbindliche Unterschrift des*r Zuwendungsempfängers*in
B48: ** ACHTUNG: Ihr festgelegter Eigenanteil bleibt zwingend als Mindestbetrag bestehen. Verringerungen der Gesamtausgaben werden von der Förderung abgezogen. Wenn sich Zuwendungen Dritter ändern (z.B. Erhöhung, Verringerung, Zweckbindung), informieren Sie uns bitte frühzeitig.
